Package: HEM Version: 1.80.0 Command: /Library/Frameworks/R.framework/Resources/bin/R CMD INSTALL HEM StartedAt: 2025-05-22 15:23:24 -0400 (Thu, 22 May 2025) EndedAt: 2025-05-22 15:23:43 -0400 (Thu, 22 May 2025) EllapsedTime: 19.0 seconds RetCode: 0 Status: OK