Package: HEM Version: 1.80.0 Command: rm -rf HEM.buildbin-libdir && mkdir HEM.buildbin-libdir && /Users/biocbuild/BBS/utils/build-universal.sh HEM_1.80.0.tar.gz /Library/Frameworks/R.framework/Resources/bin/R HEM.buildbin-libdir StartedAt: 2025-05-27 13:22:53 -0400 (Tue, 27 May 2025) EndedAt: 2025-05-27 13:23:09 -0400 (Tue, 27 May 2025) EllapsedTime: 16.5 seconds RetCode: 0 Status: OK PackageFile: HEM_1.80.0.tgz PackageFileSize: 716.4 KiB