Package: HDTD Version: 1.40.0 Command: /home/biocbuild/R/R/bin/R CMD check --install=check:HDTD.install-out.txt --library=/home/biocbuild/R/R/site-library --no-vignettes --timings HDTD_1.40.0.tar.gz StartedAt: 2025-01-31 07:03:24 -0000 (Fri, 31 Jan 2025) EndedAt: 2025-01-31 07:04:09 -0000 (Fri, 31 Jan 2025) EllapsedTime: 44.0 seconds RetCode: 0 Status: OK CheckDir: HDTD.Rcheck Warnings: 0