Package: Gviz Version: 1.52.0 Command: chmod a+r Gviz -R && E:\biocbuild\bbs-3.21-bioc\R\bin\R.exe CMD build --keep-empty-dirs --no-resave-data Gviz StartedAt: 2025-08-14 19:36:11 -0400 (Thu, 14 Aug 2025) EndedAt: 2025-08-14 19:43:37 -0400 (Thu, 14 Aug 2025) EllapsedTime: 445.8 seconds RetCode: 0 Status: OK PackageFile: Gviz_1.52.0.tar.gz PackageFileSize: 5.93 MiB