Package: GreyListChIP Version: 1.38.0 Command: /home/biocbuild/R/R/bin/R CMD build --keep-empty-dirs --no-resave-data GreyListChIP StartedAt: 2025-01-31 00:07:33 -0000 (Fri, 31 Jan 2025) EndedAt: 2025-01-31 00:08:32 -0000 (Fri, 31 Jan 2025) EllapsedTime: 59.0 seconds RetCode: 0 Status: OK PackageFile: GreyListChIP_1.38.0.tar.gz PackageFileSize: 334.5 KiB