Package: GraphPAC Version: 1.50.0 Command: /home/biocbuild/bbs-3.21-bioc/R/bin/R CMD build --keep-empty-dirs --no-resave-data GraphPAC StartedAt: 2025-10-15 17:51:05 -0400 (Wed, 15 Oct 2025) EndedAt: 2025-10-15 17:52:24 -0400 (Wed, 15 Oct 2025) EllapsedTime: 79.0 seconds RetCode: 0 Status: OK PackageFile: GraphPAC_1.50.0.tar.gz PackageFileSize: 706.2 KiB