Package: GraphAlignment Version: 1.70.0 Command: /home/biocbuild/R/R/bin/R CMD check --install=check:GraphAlignment.install-out.txt --library=/home/biocbuild/R/R/site-library --no-vignettes --timings GraphAlignment_1.70.0.tar.gz StartedAt: 2025-01-31 06:55:49 -0000 (Fri, 31 Jan 2025) EndedAt: 2025-01-31 06:56:06 -0000 (Fri, 31 Jan 2025) EllapsedTime: 17.0 seconds RetCode: 0 Status: OK CheckDir: GraphAlignment.Rcheck Warnings: 0