Package: GraphAlignment Version: 1.70.0 Command: /home/biocbuild/R/R/bin/R CMD build --keep-empty-dirs --no-resave-data GraphAlignment StartedAt: 2025-01-31 00:06:41 -0000 (Fri, 31 Jan 2025) EndedAt: 2025-01-31 00:06:48 -0000 (Fri, 31 Jan 2025) EllapsedTime: 7.0 seconds RetCode: 0 Status: OK PackageFile: GraphAlignment_1.70.0.tar.gz PackageFileSize: 575.8 KiB