Package: GraphAlignment Version: 1.70.0 Command: /Library/Frameworks/R.framework/Resources/bin/R CMD build --keep-empty-dirs --no-resave-data GraphAlignment StartedAt: 2025-01-30 19:35:10 -0500 (Thu, 30 Jan 2025) EndedAt: 2025-01-30 19:35:32 -0500 (Thu, 30 Jan 2025) EllapsedTime: 22.3 seconds RetCode: 0 Status: OK PackageFile: GraphAlignment_1.70.0.tar.gz PackageFileSize: 591.4 KiB