Package: GraphAlignment Version: 1.72.0 Command: /Library/Frameworks/R.framework/Resources/bin/R CMD INSTALL GraphAlignment StartedAt: 2025-05-19 15:15:55 -0400 (Mon, 19 May 2025) EndedAt: 2025-05-19 15:16:32 -0400 (Mon, 19 May 2025) EllapsedTime: 37.0 seconds RetCode: 0 Status: OK