Package: GraphAlignment Version: 1.72.0 Command: rm -rf GraphAlignment.buildbin-libdir && mkdir GraphAlignment.buildbin-libdir && /Users/biocbuild/BBS/utils/build-universal.sh GraphAlignment_1.72.0.tar.gz /Library/Frameworks/R.framework/Resources/bin/R GraphAlignment.buildbin-libdir StartedAt: 2025-05-24 15:49:14 -0400 (Sat, 24 May 2025) EndedAt: 2025-05-24 15:49:20 -0400 (Sat, 24 May 2025) EllapsedTime: 6.9 seconds RetCode: 0 Status: OK PackageFile: GraphAlignment_1.72.0.tgz PackageFileSize: 574.4 KiB