Package: GraphAT Version: 1.80.0 Command: /home/biocbuild/bbs-3.21-bioc/R/bin/R CMD INSTALL GraphAT StartedAt: 2025-10-05 15:12:21 -0400 (Sun, 05 Oct 2025) EndedAt: 2025-10-05 15:12:28 -0400 (Sun, 05 Oct 2025) EllapsedTime: 7.4 seconds RetCode: 0 Status: OK