Package: GraphAT Version: 1.80.0 Command: /home/biocbuild/bbs-3.21-bioc/R/bin/R CMD build --keep-empty-dirs --no-resave-data GraphAT StartedAt: 2025-10-05 17:52:57 -0400 (Sun, 05 Oct 2025) EndedAt: 2025-10-05 17:52:59 -0400 (Sun, 05 Oct 2025) EllapsedTime: 2.0 seconds RetCode: 0 Status: OK PackageFile: GraphAT_1.80.0.tar.gz PackageFileSize: 1.884 MiB