Package: GmicR Version: 1.20.0 Command: /home/biocbuild/R/R/bin/R CMD INSTALL GmicR StartedAt: 2025-02-03 21:06:36 -0000 (Mon, 03 Feb 2025) EndedAt: 2025-02-03 21:07:11 -0000 (Mon, 03 Feb 2025) EllapsedTime: 34.9 seconds RetCode: 0 Status: OK