Package: GmicR Version: 1.20.0 Command: /home/biocbuild/R/R/bin/R CMD build --keep-empty-dirs --no-resave-data GmicR StartedAt: 2025-01-31 00:00:29 -0000 (Fri, 31 Jan 2025) EndedAt: 2025-01-31 00:12:19 -0000 (Fri, 31 Jan 2025) EllapsedTime: 710.4 seconds RetCode: 0 Status: OK PackageFile: GmicR_1.20.0.tar.gz PackageFileSize: 3.425 MiB