Package: GloScope Version: 1.6.0 Command: E:\biocbuild\bbs-3.21-bioc\R\bin\R.exe CMD INSTALL GloScope StartedAt: 2025-08-14 16:11:22 -0400 (Thu, 14 Aug 2025) EndedAt: 2025-08-14 16:11:54 -0400 (Thu, 14 Aug 2025) EllapsedTime: 32.6 seconds RetCode: 0 Status: OK