Package: GloScope Version: 1.6.0 Command: chmod a+r GloScope -R && E:\biocbuild\bbs-3.21-bioc\R\bin\R.exe CMD build --keep-empty-dirs --no-resave-data GloScope StartedAt: 2025-08-14 19:28:45 -0400 (Thu, 14 Aug 2025) EndedAt: 2025-08-14 19:29:50 -0400 (Thu, 14 Aug 2025) EllapsedTime: 65.1 seconds RetCode: 0 Status: OK PackageFile: GloScope_1.6.0.tar.gz PackageFileSize: 2.547 MiB