Package: Glimma Version: 2.18.0 Command: chmod a+r Glimma -R && E:\biocbuild\bbs-3.21-bioc\R\bin\R.exe CMD build --keep-empty-dirs --no-resave-data Glimma StartedAt: 2025-08-14 19:27:20 -0400 (Thu, 14 Aug 2025) EndedAt: 2025-08-14 19:38:48 -0400 (Thu, 14 Aug 2025) EllapsedTime: 688.0 seconds RetCode: 0 Status: OK PackageFile: Glimma_2.18.0.tar.gz PackageFileSize: 11.12 MiB