Package: Glimma Version: 2.16.0 Command: /Library/Frameworks/R.framework/Resources/bin/R CMD INSTALL Glimma StartedAt: 2025-01-02 15:50:03 -0500 (Thu, 02 Jan 2025) EndedAt: 2025-01-02 15:51:04 -0500 (Thu, 02 Jan 2025) EllapsedTime: 60.3 seconds RetCode: 0 Status: OK