Package: Glimma Version: 2.18.0 Command: /Library/Frameworks/R.framework/Resources/bin/R CMD check --install=check:Glimma.install-out.txt --library=/Library/Frameworks/R.framework/Resources/library --no-vignettes --timings Glimma_2.18.0.tar.gz StartedAt: 2025-04-21 21:02:55 -0400 (Mon, 21 Apr 2025) EndedAt: 2025-04-21 21:08:39 -0400 (Mon, 21 Apr 2025) EllapsedTime: 343.8 seconds RetCode: 0 Status: OK CheckDir: Glimma.Rcheck Warnings: 0