Package: Glimma Version: 2.18.0 Command: /Library/Frameworks/R.framework/Resources/bin/R CMD build --keep-empty-dirs --no-resave-data Glimma StartedAt: 2025-04-21 16:58:19 -0400 (Mon, 21 Apr 2025) EndedAt: 2025-04-21 17:06:57 -0400 (Mon, 21 Apr 2025) EllapsedTime: 518.4 seconds RetCode: 0 Status: OK PackageFile: Glimma_2.18.0.tar.gz PackageFileSize: 11.12 MiB