Package: Glimma Version: 2.18.0 Command: rm -rf Glimma.buildbin-libdir && mkdir Glimma.buildbin-libdir && /Users/biocbuild/BBS/utils/build-universal.sh Glimma_2.18.0.tar.gz /Library/Frameworks/R.framework/Resources/bin/R Glimma.buildbin-libdir StartedAt: 2025-04-22 00:48:03 -0400 (Tue, 22 Apr 2025) EndedAt: 2025-04-22 00:48:48 -0400 (Tue, 22 Apr 2025) EllapsedTime: 45.0 seconds RetCode: 0 Status: OK PackageFile: Glimma_2.18.0.tgz PackageFileSize: 8.755 MiB