Package: Glimma Version: 2.18.0 Command: /home/biocbuild/R/R/bin/R CMD INSTALL Glimma StartedAt: 2025-05-05 20:34:26 -0000 (Mon, 05 May 2025) EndedAt: 2025-05-05 20:35:05 -0000 (Mon, 05 May 2025) EllapsedTime: 38.6 seconds RetCode: 0 Status: OK