Package: GladiaTOX Version: 1.24.0 Command: /Library/Frameworks/R.framework/Resources/bin/R CMD build --keep-empty-dirs --no-resave-data GladiaTOX StartedAt: 2025-04-21 16:29:03 -0400 (Mon, 21 Apr 2025) EndedAt: 2025-04-21 16:30:41 -0400 (Mon, 21 Apr 2025) EllapsedTime: 98.0 seconds RetCode: 0 Status: OK PackageFile: GladiaTOX_1.24.0.tar.gz PackageFileSize: 3.952 MiB