Package: GladiaTOX Version: 1.22.0 Command: /Library/Frameworks/R.framework/Resources/bin/R CMD INSTALL GladiaTOX StartedAt: 2025-01-30 15:46:21 -0500 (Thu, 30 Jan 2025) EndedAt: 2025-01-30 15:46:34 -0500 (Thu, 30 Jan 2025) EllapsedTime: 12.7 seconds RetCode: 0 Status: OK