Package: GladiaTOX Version: 1.22.0 Command: /Library/Frameworks/R.framework/Resources/bin/R CMD build --keep-empty-dirs --no-resave-data GladiaTOX StartedAt: 2025-01-31 00:30:22 -0500 (Fri, 31 Jan 2025) EndedAt: 2025-01-31 00:35:18 -0500 (Fri, 31 Jan 2025) EllapsedTime: 295.5 seconds RetCode: 0 Status: OK PackageFile: GladiaTOX_1.22.0.tar.gz PackageFileSize: 3.95 MiB