Package: GeomxTools Version: 3.12.1 Command: /home/biocbuild/bbs-3.21-bioc/R/bin/R CMD INSTALL GeomxTools StartedAt: 2025-10-15 15:15:17 -0400 (Wed, 15 Oct 2025) EndedAt: 2025-10-15 15:15:43 -0400 (Wed, 15 Oct 2025) EllapsedTime: 26.7 seconds RetCode: 0 Status: OK