Package: GeomxTools Version: 3.12.1 Command: /home/biocbuild/bbs-3.21-bioc/R/bin/R CMD build --keep-empty-dirs --no-resave-data GeomxTools StartedAt: 2025-10-15 17:42:17 -0400 (Wed, 15 Oct 2025) EndedAt: 2025-10-15 17:48:25 -0400 (Wed, 15 Oct 2025) EllapsedTime: 368.3 seconds RetCode: 0 Status: OK PackageFile: GeomxTools_3.12.1.tar.gz PackageFileSize: 15.63 MiB