Package: GeoTcgaData Version: 2.8.0 Command: chmod a+r GeoTcgaData -R && E:\biocbuild\bbs-3.21-bioc\R\bin\R.exe CMD build --keep-empty-dirs --no-resave-data GeoTcgaData StartedAt: 2025-08-14 19:24:07 -0400 (Thu, 14 Aug 2025) EndedAt: 2025-08-14 19:25:12 -0400 (Thu, 14 Aug 2025) EllapsedTime: 65.6 seconds RetCode: 1 Status: ERROR PackageFile: None PackageFileSize: NA