Package: GeoTcgaData Version: 2.8.0 Command: /Library/Frameworks/R.framework/Resources/bin/R CMD INSTALL GeoTcgaData StartedAt: 2025-05-15 16:04:08 -0400 (Thu, 15 May 2025) EndedAt: 2025-05-15 16:05:01 -0400 (Thu, 15 May 2025) EllapsedTime: 52.1 seconds RetCode: 0 Status: OK