Package: GeoTcgaData Version: 2.8.0 Command: /Library/Frameworks/R.framework/Resources/bin/R CMD check --install=check:GeoTcgaData.install-out.txt --library=/Library/Frameworks/R.framework/Resources/library --no-vignettes --timings GeoTcgaData_2.8.0.tar.gz StartedAt: 2025-05-16 20:57:04 -0400 (Fri, 16 May 2025) EndedAt: 2025-05-16 21:00:56 -0400 (Fri, 16 May 2025) EllapsedTime: 232.7 seconds RetCode: 0 Status: OK CheckDir: GeoTcgaData.Rcheck Warnings: 0