Package: GeoDiff Version: 1.14.0 Command: /home/biocbuild/bbs-3.21-bioc/R/bin/R CMD INSTALL GeoDiff StartedAt: 2025-10-12 15:16:10 -0400 (Sun, 12 Oct 2025) EndedAt: 2025-10-12 15:17:36 -0400 (Sun, 12 Oct 2025) EllapsedTime: 86.3 seconds RetCode: 0 Status: OK