Package: GeoDiff Version: 1.14.0 Command: /home/biocbuild/bbs-3.21-bioc/R/bin/R CMD build --keep-empty-dirs --no-resave-data GeoDiff StartedAt: 2025-10-12 17:41:27 -0400 (Sun, 12 Oct 2025) EndedAt: 2025-10-12 17:45:26 -0400 (Sun, 12 Oct 2025) EllapsedTime: 239.3 seconds RetCode: 0 Status: OK PackageFile: GeoDiff_1.14.0.tar.gz PackageFileSize: 4.54 MiB