Package: GenomicScores Version: 2.18.0 Command: /home/biocbuild/R/R/bin/R CMD check --install=check:GenomicScores.install-out.txt --library=/home/biocbuild/R/R/site-library --no-vignettes --timings GenomicScores_2.18.0.tar.gz StartedAt: 2025-01-31 06:36:14 -0000 (Fri, 31 Jan 2025) EndedAt: 2025-01-31 06:40:33 -0000 (Fri, 31 Jan 2025) EllapsedTime: 259.1 seconds RetCode: 0 Status: OK CheckDir: GenomicScores.Rcheck Warnings: 0