Package: GenomicScores Version: 2.18.0 Command: /home/biocbuild/R/R/bin/R CMD build --keep-empty-dirs --no-resave-data GenomicScores StartedAt: 2025-01-30 23:50:53 -0000 (Thu, 30 Jan 2025) EndedAt: 2025-01-30 23:53:20 -0000 (Thu, 30 Jan 2025) EllapsedTime: 147.1 seconds RetCode: 0 Status: OK PackageFile: GenomicScores_2.18.0.tar.gz PackageFileSize: 1.491 MiB