Package: GenomicScores Version: 2.18.0 Command: F:\biocbuild\bbs-3.20-bioc\R\bin\R.exe CMD check --no-multiarch --install=check:GenomicScores.install-out.txt --library=F:\biocbuild\bbs-3.20-bioc\R\library --no-vignettes --timings GenomicScores_2.18.0.tar.gz StartedAt: 2025-01-31 02:23:54 -0500 (Fri, 31 Jan 2025) EndedAt: 2025-01-31 02:28:42 -0500 (Fri, 31 Jan 2025) EllapsedTime: 288.7 seconds RetCode: 0 Status: OK CheckDir: GenomicScores.Rcheck Warnings: 0