Package: GenomicScores Version: 2.18.1 Command: /home/biocbuild/bbs-3.20-bioc/R/bin/R CMD check --install=check:GenomicScores.install-out.txt --library=/home/biocbuild/bbs-3.20-bioc/R/site-library --timings GenomicScores_2.18.1.tar.gz StartedAt: 2025-02-03 22:42:26 -0500 (Mon, 03 Feb 2025) EndedAt: 2025-02-03 22:47:34 -0500 (Mon, 03 Feb 2025) EllapsedTime: 308.3 seconds RetCode: 0 Status: OK CheckDir: GenomicScores.Rcheck Warnings: 0