Package: GenomicScores Version: 2.20.2 Command: /home/biocbuild/bbs-3.21-bioc/R/bin/R CMD build --keep-empty-dirs --no-resave-data GenomicScores StartedAt: 2025-10-15 17:41:08 -0400 (Wed, 15 Oct 2025) EndedAt: 2025-10-15 17:43:22 -0400 (Wed, 15 Oct 2025) EllapsedTime: 133.1 seconds RetCode: 0 Status: OK PackageFile: GenomicScores_2.20.2.tar.gz PackageFileSize: 1.774 MiB