Package: GenomicScores Version: 2.18.0 Command: /Library/Frameworks/R.framework/Resources/bin/R CMD build --keep-empty-dirs --no-resave-data GenomicScores StartedAt: 2025-01-30 19:23:59 -0500 (Thu, 30 Jan 2025) EndedAt: 2025-01-30 19:28:23 -0500 (Thu, 30 Jan 2025) EllapsedTime: 263.5 seconds RetCode: 0 Status: OK PackageFile: GenomicScores_2.18.0.tar.gz PackageFileSize: 1.639 MiB