Package: GenomicScores Version: 2.18.0 Command: rm -rf GenomicScores.buildbin-libdir && mkdir GenomicScores.buildbin-libdir && /Users/biocbuild/BBS/utils/build-universal.sh GenomicScores_2.18.0.tar.gz /Library/Frameworks/R.framework/Resources/bin/R GenomicScores.buildbin-libdir StartedAt: 2025-01-31 12:52:43 -0500 (Fri, 31 Jan 2025) EndedAt: 2025-01-31 12:53:52 -0500 (Fri, 31 Jan 2025) EllapsedTime: 69.1 seconds RetCode: 0 Status: OK PackageFile: GenomicScores_2.18.0.tgz PackageFileSize: 2.059 MiB