Package: GenomicScores Version: 2.18.0 Command: /Library/Frameworks/R.framework/Resources/bin/R CMD check --install=check:GenomicScores.install-out.txt --library=/Library/Frameworks/R.framework/Resources/library --no-vignettes --timings GenomicScores_2.18.0.tar.gz StartedAt: 2024-11-09 03:20:34 -0500 (Sat, 09 Nov 2024) EndedAt: 2024-11-09 03:25:37 -0500 (Sat, 09 Nov 2024) EllapsedTime: 303.0 seconds RetCode: 0 Status: OK CheckDir: GenomicScores.Rcheck Warnings: 0