Package: GenomicScores Version: 2.18.0 Command: /Library/Frameworks/R.framework/Resources/bin/R CMD INSTALL GenomicScores StartedAt: 2025-01-30 15:43:02 -0500 (Thu, 30 Jan 2025) EndedAt: 2025-01-30 15:43:36 -0500 (Thu, 30 Jan 2025) EllapsedTime: 34.1 seconds RetCode: 0 Status: OK