Package: GenomicScores Version: 2.20.0 Command: /Library/Frameworks/R.framework/Resources/bin/R CMD check --install=check:GenomicScores.install-out.txt --library=/Library/Frameworks/R.framework/Resources/library --no-vignettes --timings GenomicScores_2.20.0.tar.gz StartedAt: 2025-04-25 22:30:53 -0400 (Fri, 25 Apr 2025) EndedAt: 2025-04-25 22:35:14 -0400 (Fri, 25 Apr 2025) EllapsedTime: 260.1 seconds RetCode: 0 Status: OK CheckDir: GenomicScores.Rcheck Warnings: 0