Package: GenomicScores Version: 2.18.0 Command: /Library/Frameworks/R.framework/Resources/bin/R CMD build --keep-empty-dirs --no-resave-data GenomicScores StartedAt: 2025-01-31 00:18:06 -0500 (Fri, 31 Jan 2025) EndedAt: 2025-01-31 00:20:21 -0500 (Fri, 31 Jan 2025) EllapsedTime: 135.7 seconds RetCode: 0 Status: OK PackageFile: GenomicScores_2.18.0.tar.gz PackageFileSize: 1.64 MiB