Package: GenomicScores Version: 2.18.0 Command: rm -rf GenomicScores.buildbin-libdir && mkdir GenomicScores.buildbin-libdir && /Users/biocbuild/BBS/utils/build-universal.sh GenomicScores_2.18.0.tar.gz /Library/Frameworks/R.framework/Resources/bin/R GenomicScores.buildbin-libdir StartedAt: 2025-02-01 15:05:19 -0500 (Sat, 01 Feb 2025) EndedAt: 2025-02-01 15:05:58 -0500 (Sat, 01 Feb 2025) EllapsedTime: 38.3 seconds RetCode: 0 Status: OK PackageFile: GenomicScores_2.18.0.tgz PackageFileSize: 2.061 MiB