Package: GenomicRanges Version: 1.60.0 Command: chmod a+r GenomicRanges -R && E:\biocbuild\bbs-3.21-bioc\R\bin\R.exe CMD build --keep-empty-dirs --no-resave-data GenomicRanges StartedAt: 2025-08-14 19:21:22 -0400 (Thu, 14 Aug 2025) EndedAt: 2025-08-14 19:27:19 -0400 (Thu, 14 Aug 2025) EllapsedTime: 356.8 seconds RetCode: 0 Status: OK PackageFile: GenomicRanges_1.60.0.tar.gz PackageFileSize: 1.08 MiB