Package: GenomicInteractions Version: 1.42.0 Command: E:\biocbuild\bbs-3.21-bioc\R\bin\R.exe CMD INSTALL GenomicInteractions StartedAt: 2025-08-14 17:01:25 -0400 (Thu, 14 Aug 2025) EndedAt: 2025-08-14 17:06:11 -0400 (Thu, 14 Aug 2025) EllapsedTime: 286.9 seconds RetCode: 0 Status: OK