Package: GenomicInteractionNodes Version: 1.12.0 Command: chmod a+r GenomicInteractionNodes -R && E:\biocbuild\bbs-3.21-bioc\R\bin\R.exe CMD build --keep-empty-dirs --no-resave-data GenomicInteractionNodes StartedAt: 2025-08-14 19:20:54 -0400 (Thu, 14 Aug 2025) EndedAt: 2025-08-14 19:23:19 -0400 (Thu, 14 Aug 2025) EllapsedTime: 144.7 seconds RetCode: 0 Status: OK PackageFile: GenomicInteractionNodes_1.12.0.tar.gz PackageFileSize: 248.6 KiB