Package: GenomicDistributions Version: 1.16.1 Maintainer: Kristyna Kupkova MaintainerEmail: kristynakupkova at gmail.com git_url: https://git.bioconductor.org/packages/GenomicDistributions git_branch: RELEASE_3_21 git_last_commit: 2f86fb9 git_last_commit_date: 2025-04-23 17:00:19 -0400 (Wed, 23 Apr 2025)