Package: GenomicDataCommons Version: 1.32.1 Command: /home/biocbuild/bbs-3.21-bioc/R/bin/R CMD build --keep-empty-dirs --no-resave-data GenomicDataCommons StartedAt: 2025-10-15 17:39:53 -0400 (Wed, 15 Oct 2025) EndedAt: 2025-10-15 17:41:01 -0400 (Wed, 15 Oct 2025) EllapsedTime: 68.1 seconds RetCode: 0 Status: OK PackageFile: GenomicDataCommons_1.32.1.tar.gz PackageFileSize: 2.655 MiB